Package: MineICA Version: 1.47.0 Command: rm -rf MineICA.buildbin-libdir && mkdir MineICA.buildbin-libdir && /Users/biocbuild/BBS/utils/build-universal.sh MineICA_1.47.0.tar.gz /Library/Frameworks/R.framework/Resources/bin/R MineICA.buildbin-libdir StartedAt: 2025-02-09 22:21:15 -0500 (Sun, 09 Feb 2025) EndedAt: 2025-02-09 22:21:30 -0500 (Sun, 09 Feb 2025) EllapsedTime: 15.3 seconds RetCode: 0 Status: OK PackageFile: MineICA_1.47.0.tgz PackageFileSize: 2.193 MiB