Package: MineICA Version: 1.47.0 Command: /Library/Frameworks/R.framework/Resources/bin/R CMD build --keep-empty-dirs --no-resave-data MineICA StartedAt: 2025-02-12 16:57:02 -0500 (Wed, 12 Feb 2025) EndedAt: 2025-02-12 16:58:34 -0500 (Wed, 12 Feb 2025) EllapsedTime: 92.1 seconds RetCode: 0 Status: OK PackageFile: MineICA_1.47.0.tar.gz PackageFileSize: 1.434 MiB