Package: MineICA Version: 1.47.0 Command: /home/biocbuild/R/R/bin/R CMD build --keep-empty-dirs --no-resave-data MineICA StartedAt: 2025-01-29 00:21:19 -0000 (Wed, 29 Jan 2025) EndedAt: 2025-01-29 00:23:38 -0000 (Wed, 29 Jan 2025) EllapsedTime: 139.0 seconds RetCode: 0 Status: OK PackageFile: MineICA_1.47.0.tar.gz PackageFileSize: 1.402 MiB