Package: MineICA Version: 1.47.0 Command: /Library/Frameworks/R.framework/Resources/bin/R CMD check --install=check:MineICA.install-out.txt --library=/Library/Frameworks/R.framework/Resources/library --no-vignettes --timings MineICA_1.47.0.tar.gz StartedAt: 2025-02-12 21:42:32 -0500 (Wed, 12 Feb 2025) EndedAt: 2025-02-12 21:47:15 -0500 (Wed, 12 Feb 2025) EllapsedTime: 282.9 seconds RetCode: 0 Status: WARNINGS CheckDir: MineICA.Rcheck Warnings: 3