Package: MineICA Version: 1.47.0 Command: /home/biocbuild/bbs-3.21-bioc/R/bin/R CMD build --keep-empty-dirs --no-resave-data MineICA StartedAt: 2025-02-12 18:03:53 -0500 (Wed, 12 Feb 2025) EndedAt: 2025-02-12 18:05:34 -0500 (Wed, 12 Feb 2025) EllapsedTime: 101.1 seconds RetCode: 0 Status: OK PackageFile: MineICA_1.47.0.tar.gz PackageFileSize: 1.434 MiB