Package: MineICA Version: 1.47.0 Command: /home/biocbuild/bbs-3.21-bioc/R/bin/R CMD INSTALL MineICA StartedAt: 2025-02-09 16:00:01 -0500 (Sun, 09 Feb 2025) EndedAt: 2025-02-09 16:00:36 -0500 (Sun, 09 Feb 2025) EllapsedTime: 34.7 seconds RetCode: 0 Status: OK