Package: MineICA Version: 1.47.0 Command: rm -rf MineICA.buildbin-libdir && mkdir MineICA.buildbin-libdir && E:\biocbuild\bbs-3.21-bioc\R\bin\R.exe CMD INSTALL --build --library=MineICA.buildbin-libdir MineICA_1.47.0.tar.gz StartedAt: 2025-02-10 08:09:05 -0500 (Mon, 10 Feb 2025) EndedAt: 2025-02-10 08:11:32 -0500 (Mon, 10 Feb 2025) EllapsedTime: 147.2 seconds RetCode: 0 Status: OK PackageFile: MineICA_1.47.0.zip PackageFileSize: 2.195 MiB