Package: MineICA Version: 1.47.0 Command: chmod a+r MineICA -R && E:\biocbuild\bbs-3.21-bioc\R\bin\R.exe CMD build --keep-empty-dirs --no-resave-data MineICA StartedAt: 2025-02-09 19:55:19 -0500 (Sun, 09 Feb 2025) EndedAt: 2025-02-09 19:58:23 -0500 (Sun, 09 Feb 2025) EllapsedTime: 184.3 seconds RetCode: 0 Status: OK PackageFile: MineICA_1.47.0.tar.gz PackageFileSize: 1.438 MiB