Package: MineICA Version: 1.47.0 Command: E:\biocbuild\bbs-3.21-bioc\R\bin\R.exe CMD check --no-multiarch --install=check:MineICA.install-out.txt --library=E:\biocbuild\bbs-3.21-bioc\R\library --no-vignettes --timings MineICA_1.47.0.tar.gz StartedAt: 2025-02-10 02:57:54 -0500 (Mon, 10 Feb 2025) EndedAt: 2025-02-10 03:04:06 -0500 (Mon, 10 Feb 2025) EllapsedTime: 372.5 seconds RetCode: 0 Status: WARNINGS CheckDir: MineICA.Rcheck Warnings: 3