Package: MineICA Version: 1.47.0 Command: E:\biocbuild\bbs-3.21-bioc\R\bin\R.exe CMD INSTALL MineICA StartedAt: 2025-02-09 17:01:35 -0500 (Sun, 09 Feb 2025) EndedAt: 2025-02-09 17:02:28 -0500 (Sun, 09 Feb 2025) EllapsedTime: 53.2 seconds RetCode: 0 Status: OK