Package: MinimumDistance Version: 1.51.0 Command: /Library/Frameworks/R.framework/Resources/bin/R CMD INSTALL MinimumDistance StartedAt: 2025-02-09 15:29:11 -0500 (Sun, 09 Feb 2025) EndedAt: 2025-02-09 15:29:12 -0500 (Sun, 09 Feb 2025) EllapsedTime: 1.0 seconds RetCode: 1 Status: ERROR