Package: MinimumDistance Version: 1.51.0 Command: /Library/Frameworks/R.framework/Resources/bin/R CMD build --keep-empty-dirs --no-resave-data MinimumDistance StartedAt: 2025-02-09 17:27:35 -0500 (Sun, 09 Feb 2025) EndedAt: 2025-02-09 17:27:37 -0500 (Sun, 09 Feb 2025) EllapsedTime: 2.3 seconds RetCode: 1 Status: ERROR PackageFile: None PackageFileSize: NA