Package: MinimumDistance Version: 1.51.0 Command: chmod a+r MinimumDistance -R && E:\biocbuild\bbs-3.21-bioc\R\bin\R.exe CMD build --keep-empty-dirs --no-resave-data MinimumDistance StartedAt: 2025-02-03 20:08:17 -0500 (Mon, 03 Feb 2025) EndedAt: 2025-02-03 20:08:27 -0500 (Mon, 03 Feb 2025) EllapsedTime: 10.0 seconds RetCode: 1 Status: ERROR PackageFile: None PackageFileSize: NA