Package: MinimumDistance Version: 1.51.0 Command: E:\biocbuild\bbs-3.21-bioc\R\bin\R.exe CMD INSTALL MinimumDistance StartedAt: 2025-02-03 17:08:56 -0500 (Mon, 03 Feb 2025) EndedAt: 2025-02-03 17:08:58 -0500 (Mon, 03 Feb 2025) EllapsedTime: 1.8 seconds RetCode: 1 Status: ERROR