Package: ModCon Version: 1.15.0 Command: /Library/Frameworks/R.framework/Resources/bin/R CMD INSTALL ModCon StartedAt: 2025-02-03 15:37:59 -0500 (Mon, 03 Feb 2025) EndedAt: 2025-02-03 15:38:04 -0500 (Mon, 03 Feb 2025) EllapsedTime: 5.3 seconds RetCode: 0 Status: OK