Package: ModCon Version: 1.15.0 Command: /home/biocbuild/R/R/bin/R CMD check --install=check:ModCon.install-out.txt --library=/home/biocbuild/R/R/site-library --no-vignettes --timings ModCon_1.15.0.tar.gz StartedAt: 2025-01-28 12:39:41 -0000 (Tue, 28 Jan 2025) EndedAt: 2025-01-28 12:45:39 -0000 (Tue, 28 Jan 2025) EllapsedTime: 357.5 seconds RetCode: 0 Status: OK CheckDir: ModCon.Rcheck Warnings: 0