Package: ModCon Version: 1.15.0 Command: /home/biocbuild/R/R/bin/R CMD INSTALL ModCon StartedAt: 2025-01-29 19:34:11 -0000 (Wed, 29 Jan 2025) EndedAt: 2025-01-29 19:34:20 -0000 (Wed, 29 Jan 2025) EllapsedTime: 9.1 seconds RetCode: 0 Status: OK