Package: ModCon Version: 1.15.0 Command: rm -rf ModCon.buildbin-libdir && mkdir ModCon.buildbin-libdir && /Users/biocbuild/BBS/utils/build-universal.sh ModCon_1.15.0.tar.gz /Library/Frameworks/R.framework/Resources/bin/R ModCon.buildbin-libdir StartedAt: 2025-02-10 01:03:29 -0500 (Mon, 10 Feb 2025) EndedAt: 2025-02-10 01:03:42 -0500 (Mon, 10 Feb 2025) EllapsedTime: 12.7 seconds RetCode: 0 Status: OK PackageFile: ModCon_1.15.0.tgz PackageFileSize: 1.956 MiB