Package: ModCon Version: 1.15.0 Command: /Library/Frameworks/R.framework/Resources/bin/R CMD build --keep-empty-dirs --no-resave-data ModCon StartedAt: 2025-02-03 17:29:55 -0500 (Mon, 03 Feb 2025) EndedAt: 2025-02-03 17:32:09 -0500 (Mon, 03 Feb 2025) EllapsedTime: 133.7 seconds RetCode: 0 Status: OK PackageFile: ModCon_1.15.0.tar.gz PackageFileSize: 1.912 MiB