Package: ModCon Version: 1.15.0 Command: /Library/Frameworks/R.framework/Resources/bin/R CMD check --install=check:ModCon.install-out.txt --library=/Library/Frameworks/R.framework/Resources/library --no-vignettes --timings ModCon_1.15.0.tar.gz StartedAt: 2025-02-03 21:47:25 -0500 (Mon, 03 Feb 2025) EndedAt: 2025-02-03 21:52:00 -0500 (Mon, 03 Feb 2025) EllapsedTime: 275.1 seconds RetCode: 0 Status: OK CheckDir: ModCon.Rcheck Warnings: 0