Package: ModCon Version: 1.15.0 Command: E:\biocbuild\bbs-3.21-bioc\R\bin\R.exe CMD INSTALL ModCon StartedAt: 2025-02-04 15:21:58 -0500 (Tue, 04 Feb 2025) EndedAt: 2025-02-04 15:22:28 -0500 (Tue, 04 Feb 2025) EllapsedTime: 30.7 seconds RetCode: 0 Status: OK