Package: Modstrings Version: 1.23.0 Command: /Library/Frameworks/R.framework/Resources/bin/R CMD check --install=check:Modstrings.install-out.txt --library=/Library/Frameworks/R.framework/Resources/library --no-vignettes --timings Modstrings_1.23.0.tar.gz StartedAt: 2025-02-09 20:11:39 -0500 (Sun, 09 Feb 2025) EndedAt: 2025-02-09 20:12:27 -0500 (Sun, 09 Feb 2025) EllapsedTime: 47.5 seconds RetCode: 0 Status: OK CheckDir: Modstrings.Rcheck Warnings: 0