Package: Modstrings Version: 1.23.0 Command: /home/biocbuild/bbs-3.21-bioc/R/bin/R CMD check --install=check:Modstrings.install-out.txt --library=/home/biocbuild/bbs-3.21-bioc/R/site-library --timings Modstrings_1.23.0.tar.gz StartedAt: 2025-02-13 00:20:56 -0500 (Thu, 13 Feb 2025) EndedAt: 2025-02-13 00:23:40 -0500 (Thu, 13 Feb 2025) EllapsedTime: 164.2 seconds RetCode: 0 Status: OK CheckDir: Modstrings.Rcheck Warnings: 0