Package: MoleculeExperiment Version: 1.7.0 Command: /Library/Frameworks/R.framework/Resources/bin/R CMD check --install=check:MoleculeExperiment.install-out.txt --library=/Library/Frameworks/R.framework/Resources/library --no-vignettes --timings MoleculeExperiment_1.7.0.tar.gz StartedAt: 2025-02-09 20:12:25 -0500 (Sun, 09 Feb 2025) EndedAt: 2025-02-09 20:14:28 -0500 (Sun, 09 Feb 2025) EllapsedTime: 123.4 seconds RetCode: 0 Status: OK CheckDir: MoleculeExperiment.Rcheck Warnings: 0