Package: MoleculeExperiment Version: 1.7.0 Command: /Library/Frameworks/R.framework/Resources/bin/R CMD INSTALL MoleculeExperiment StartedAt: 2025-02-09 15:29:12 -0500 (Sun, 09 Feb 2025) EndedAt: 2025-02-09 15:29:29 -0500 (Sun, 09 Feb 2025) EllapsedTime: 16.5 seconds RetCode: 0 Status: OK