Package: MoleculeExperiment Version: 1.7.0 Command: /home/biocbuild/R/R/bin/R CMD INSTALL MoleculeExperiment StartedAt: 2025-01-29 20:35:55 -0000 (Wed, 29 Jan 2025) EndedAt: 2025-01-29 20:35:56 -0000 (Wed, 29 Jan 2025) EllapsedTime: 1.1 seconds RetCode: 1 Status: ERROR