Package: MoleculeExperiment Version: 1.7.0 Command: rm -rf MoleculeExperiment.buildbin-libdir && mkdir MoleculeExperiment.buildbin-libdir && /Users/biocbuild/BBS/utils/build-universal.sh MoleculeExperiment_1.7.0.tar.gz /Library/Frameworks/R.framework/Resources/bin/R MoleculeExperiment.buildbin-libdir StartedAt: 2025-02-05 00:49:49 -0500 (Wed, 05 Feb 2025) EndedAt: 2025-02-05 00:50:48 -0500 (Wed, 05 Feb 2025) EllapsedTime: 58.9 seconds RetCode: 0 Status: OK PackageFile: MoleculeExperiment_1.7.0.tgz PackageFileSize: 12.57 MiB