Package: MoleculeExperiment Version: 1.7.0 Command: E:\biocbuild\bbs-3.21-bioc\R\bin\R.exe CMD check --no-multiarch --install=check:MoleculeExperiment.install-out.txt --library=E:\biocbuild\bbs-3.21-bioc\R\library --no-vignettes --timings MoleculeExperiment_1.7.0.tar.gz StartedAt: 2025-02-10 03:07:12 -0500 (Mon, 10 Feb 2025) EndedAt: 2025-02-10 03:13:58 -0500 (Mon, 10 Feb 2025) EllapsedTime: 406.3 seconds RetCode: 0 Status: OK CheckDir: MoleculeExperiment.Rcheck Warnings: 0