Package: MotifDb Version: 1.49.0 Command: rm -rf MotifDb.buildbin-libdir && mkdir MotifDb.buildbin-libdir && /Users/biocbuild/BBS/utils/build-universal.sh MotifDb_1.49.0.tar.gz /Library/Frameworks/R.framework/Resources/bin/R MotifDb.buildbin-libdir StartedAt: 2025-02-04 22:23:50 -0500 (Tue, 04 Feb 2025) EndedAt: 2025-02-04 22:24:08 -0500 (Tue, 04 Feb 2025) EllapsedTime: 17.3 seconds RetCode: 0 Status: OK PackageFile: MotifDb_1.49.0.tgz PackageFileSize: 3.611 MiB