Package: MotifDb Version: 1.49.0 Command: /Library/Frameworks/R.framework/Resources/bin/R CMD build --keep-empty-dirs --no-resave-data MotifDb StartedAt: 2025-02-04 17:01:29 -0500 (Tue, 04 Feb 2025) EndedAt: 2025-02-04 17:01:52 -0500 (Tue, 04 Feb 2025) EllapsedTime: 23.2 seconds RetCode: 0 Status: OK PackageFile: MotifDb_1.49.0.tar.gz PackageFileSize: 3.295 MiB