Package: MotifDb Version: 1.49.0 Command: /Library/Frameworks/R.framework/Resources/bin/R CMD check --install=check:MotifDb.install-out.txt --library=/Library/Frameworks/R.framework/Resources/library --no-vignettes --timings MotifDb_1.49.0.tar.gz StartedAt: 2025-02-04 20:16:01 -0500 (Tue, 04 Feb 2025) EndedAt: 2025-02-04 20:18:03 -0500 (Tue, 04 Feb 2025) EllapsedTime: 122.3 seconds RetCode: 0 Status: WARNINGS CheckDir: MotifDb.Rcheck Warnings: 2