Package: MotifDb Version: 1.49.0 Command: /Library/Frameworks/R.framework/Resources/bin/R CMD INSTALL MotifDb StartedAt: 2025-02-04 15:09:56 -0500 (Tue, 04 Feb 2025) EndedAt: 2025-02-04 15:10:12 -0500 (Tue, 04 Feb 2025) EllapsedTime: 16.5 seconds RetCode: 0 Status: OK