Package: MotifDb Version: 1.49.0 Command: /home/biocbuild/R/R/bin/R CMD INSTALL MotifDb StartedAt: 2025-01-29 19:52:40 -0000 (Wed, 29 Jan 2025) EndedAt: 2025-01-29 19:53:38 -0000 (Wed, 29 Jan 2025) EllapsedTime: 58.6 seconds RetCode: 0 Status: OK