Package: MotifDb Version: 1.49.0 Command: /Library/Frameworks/R.framework/Resources/bin/R CMD check --install=check:MotifDb.install-out.txt --library=/Library/Frameworks/R.framework/Resources/library --no-vignettes --timings MotifDb_1.49.0.tar.gz StartedAt: 2025-02-09 22:04:30 -0500 (Sun, 09 Feb 2025) EndedAt: 2025-02-09 22:10:32 -0500 (Sun, 09 Feb 2025) EllapsedTime: 362.1 seconds RetCode: 0 Status: WARNINGS CheckDir: MotifDb.Rcheck Warnings: 2