Package: MotifDb Version: 1.49.0 Command: /home/biocbuild/bbs-3.21-bioc/R/bin/R CMD check --install=check:MotifDb.install-out.txt --library=/home/biocbuild/bbs-3.21-bioc/R/site-library --timings MotifDb_1.49.0.tar.gz StartedAt: 2025-02-04 00:31:34 -0500 (Tue, 04 Feb 2025) EndedAt: 2025-02-04 00:37:16 -0500 (Tue, 04 Feb 2025) EllapsedTime: 341.4 seconds RetCode: 0 Status: WARNINGS CheckDir: MotifDb.Rcheck Warnings: 2