Package: MotifDb Version: 1.49.0 Command: rm -rf MotifDb.buildbin-libdir && mkdir MotifDb.buildbin-libdir && E:\biocbuild\bbs-3.21-bioc\R\bin\R.exe CMD INSTALL --build --library=MotifDb.buildbin-libdir MotifDb_1.49.0.tar.gz StartedAt: 2025-02-10 08:12:13 -0500 (Mon, 10 Feb 2025) EndedAt: 2025-02-10 08:13:01 -0500 (Mon, 10 Feb 2025) EllapsedTime: 47.9 seconds RetCode: 0 Status: OK PackageFile: MotifDb_1.49.0.zip PackageFileSize: 3.534 MiB