Package: MotifDb Version: 1.49.0 Command: chmod a+r MotifDb -R && E:\biocbuild\bbs-3.21-bioc\R\bin\R.exe CMD build --keep-empty-dirs --no-resave-data MotifDb StartedAt: 2025-02-03 20:17:13 -0500 (Mon, 03 Feb 2025) EndedAt: 2025-02-03 20:18:32 -0500 (Mon, 03 Feb 2025) EllapsedTime: 79.1 seconds RetCode: 0 Status: OK PackageFile: MotifDb_1.49.0.tar.gz PackageFileSize: 3.223 MiB