Package: MotifDb Version: 1.49.0 Command: E:\biocbuild\bbs-3.21-bioc\R\bin\R.exe CMD INSTALL MotifDb StartedAt: 2025-02-09 16:31:32 -0500 (Sun, 09 Feb 2025) EndedAt: 2025-02-09 16:32:48 -0500 (Sun, 09 Feb 2025) EllapsedTime: 75.6 seconds RetCode: 0 Status: OK