Package: MotifPeeker Version: 0.99.13 Command: /Library/Frameworks/R.framework/Resources/bin/R CMD build --keep-empty-dirs --no-resave-data MotifPeeker StartedAt: 2025-02-09 17:01:33 -0500 (Sun, 09 Feb 2025) EndedAt: 2025-02-09 17:01:57 -0500 (Sun, 09 Feb 2025) EllapsedTime: 24.2 seconds RetCode: 0 Status: OK PackageFile: MotifPeeker_0.99.13.tar.gz PackageFileSize: 3.352 MiB