Package: MotifPeeker Version: 0.99.13 Command: /Library/Frameworks/R.framework/Resources/bin/R CMD check --install=check:MotifPeeker.install-out.txt --library=/Library/Frameworks/R.framework/Resources/library --no-vignettes --timings MotifPeeker_0.99.13.tar.gz StartedAt: 2025-02-09 20:14:44 -0500 (Sun, 09 Feb 2025) EndedAt: 2025-02-09 20:16:51 -0500 (Sun, 09 Feb 2025) EllapsedTime: 126.4 seconds RetCode: 0 Status: OK CheckDir: MotifPeeker.Rcheck Warnings: 0