Package: MotifPeeker Version: 0.99.13 Command: /Library/Frameworks/R.framework/Resources/bin/R CMD INSTALL MotifPeeker StartedAt: 2025-02-03 15:59:45 -0500 (Mon, 03 Feb 2025) EndedAt: 2025-02-03 16:00:02 -0500 (Mon, 03 Feb 2025) EllapsedTime: 16.6 seconds RetCode: 0 Status: OK