Package: MotifPeeker Version: 0.99.13 Command: /home/biocbuild/R/R/bin/R CMD INSTALL MotifPeeker StartedAt: 2025-01-29 20:27:08 -0000 (Wed, 29 Jan 2025) EndedAt: 2025-01-29 20:28:04 -0000 (Wed, 29 Jan 2025) EllapsedTime: 55.5 seconds RetCode: 0 Status: OK