Package: MotifPeeker Version: 0.99.13 Command: rm -rf MotifPeeker.buildbin-libdir && mkdir MotifPeeker.buildbin-libdir && /Users/biocbuild/BBS/utils/build-universal.sh MotifPeeker_0.99.13.tar.gz /Library/Frameworks/R.framework/Resources/bin/R MotifPeeker.buildbin-libdir StartedAt: 2025-02-05 00:50:15 -0500 (Wed, 05 Feb 2025) EndedAt: 2025-02-05 00:51:10 -0500 (Wed, 05 Feb 2025) EllapsedTime: 55.5 seconds RetCode: 0 Status: OK PackageFile: MotifPeeker_0.99.13.tgz PackageFileSize: 3.503 MiB