Package: MotifPeeker Version: 0.99.13 Command: /Library/Frameworks/R.framework/Resources/bin/R CMD build --keep-empty-dirs --no-resave-data MotifPeeker StartedAt: 2025-02-04 17:29:05 -0500 (Tue, 04 Feb 2025) EndedAt: 2025-02-04 17:34:23 -0500 (Tue, 04 Feb 2025) EllapsedTime: 318.5 seconds RetCode: 0 Status: OK PackageFile: MotifPeeker_0.99.13.tar.gz PackageFileSize: 3.351 MiB