Package: MotifPeeker Version: 0.99.13 Command: /Library/Frameworks/R.framework/Resources/bin/R CMD INSTALL MotifPeeker StartedAt: 2025-02-04 15:37:47 -0500 (Tue, 04 Feb 2025) EndedAt: 2025-02-04 15:38:39 -0500 (Tue, 04 Feb 2025) EllapsedTime: 52.2 seconds RetCode: 0 Status: OK