Package: MotifPeeker Version: 0.99.13 Command: /home/biocbuild/bbs-3.21-bioc/R/bin/R CMD check --install=check:MotifPeeker.install-out.txt --library=/home/biocbuild/bbs-3.21-bioc/R/site-library --timings MotifPeeker_0.99.13.tar.gz StartedAt: 2025-02-10 00:25:13 -0500 (Mon, 10 Feb 2025) EndedAt: 2025-02-10 00:30:57 -0500 (Mon, 10 Feb 2025) EllapsedTime: 344.4 seconds RetCode: 0 Status: OK CheckDir: MotifPeeker.Rcheck Warnings: 0