Package: MouseFM Version: 1.17.0 Command: rm -rf MouseFM.buildbin-libdir && mkdir MouseFM.buildbin-libdir && /Users/biocbuild/BBS/utils/build-universal.sh MouseFM_1.17.0.tar.gz /Library/Frameworks/R.framework/Resources/bin/R MouseFM.buildbin-libdir StartedAt: 2025-02-05 22:27:09 -0500 (Wed, 05 Feb 2025) EndedAt: 2025-02-05 22:27:16 -0500 (Wed, 05 Feb 2025) EllapsedTime: 7.2 seconds RetCode: 0 Status: OK PackageFile: MouseFM_1.17.0.tgz PackageFileSize: 831.3 KiB