Package: MouseFM Version: 1.17.0 Command: /Library/Frameworks/R.framework/Resources/bin/R CMD INSTALL MouseFM StartedAt: 2025-02-09 15:13:17 -0500 (Sun, 09 Feb 2025) EndedAt: 2025-02-09 15:13:23 -0500 (Sun, 09 Feb 2025) EllapsedTime: 6.5 seconds RetCode: 0 Status: OK