Package: MouseFM Version: 1.17.0 Command: /home/biocbuild/R/R/bin/R CMD build --keep-empty-dirs --no-resave-data MouseFM StartedAt: 2025-01-29 00:36:11 -0000 (Wed, 29 Jan 2025) EndedAt: 2025-01-29 00:37:28 -0000 (Wed, 29 Jan 2025) EllapsedTime: 77.0 seconds RetCode: 0 Status: OK PackageFile: MouseFM_1.17.0.tar.gz PackageFileSize: 775.6 KiB