Package: MouseFM Version: 1.17.0 Command: /home/biocbuild/R/R/bin/R CMD check --install=check:MouseFM.install-out.txt --library=/home/biocbuild/R/R/site-library --no-vignettes --timings MouseFM_1.17.0.tar.gz StartedAt: 2025-01-28 12:46:21 -0000 (Tue, 28 Jan 2025) EndedAt: 2025-01-28 12:52:49 -0000 (Tue, 28 Jan 2025) EllapsedTime: 388.5 seconds RetCode: 0 Status: WARNINGS CheckDir: MouseFM.Rcheck Warnings: 5